BEGIN:VCALENDAR
VERSION:2.0
PRODID:-//Tukios.com/
BEGIN:VEVENT
UID:f2f82cc7-57f4-4c32-8af3-96e8f7fad88e@www.colonialchapellaurel.com
DTSTAMP:20260425T000623Z
DTSTART:20260427T150000Z
DTEND:20260427T160000Z
SUMMARY:Visitation
DESCRIPTION:
URL:https://www.colonialchapellaurel.com/obituaries/kenneth-tate-walker
LOCATION: 995 Centerville Road  Soso MS 39480
GEO:31.6603258;-89.3405263
END:VEVENT
END:VCALENDAR