BEGIN:VCALENDAR
VERSION:2.0
PRODID:-//Tukios.com/
BEGIN:VEVENT
UID:f10d2a12-7fc8-4092-8e55-0619f443826b@www.colonialchapellaurel.com
DTSTAMP:20260425T000623Z
DTSTART:20260427T160000Z
DTEND:20260427T170000Z
SUMMARY:Funeral Service
DESCRIPTION:
URL:https://www.colonialchapellaurel.com/obituaries/kenneth-tate-walker
LOCATION: 995 Centerville Road  Soso MS 39480
GEO:31.6603258;-89.3405263
END:VEVENT
END:VCALENDAR