BEGIN:VCALENDAR
VERSION:2.0
PRODID:-//Tukios.com/
BEGIN:VEVENT
UID:552e0a59-8886-40fc-86b8-16b40bf4bae8@www.colonialchapellaurel.com
DTSTAMP:20260425T000648Z
DTSTART:20260427T170000Z
DTEND:20260427T180000Z
SUMMARY:Burial
DESCRIPTION:
URL:https://www.colonialchapellaurel.com/obituaries/kenneth-tate-walker
LOCATION:Centerville Baptist Church Cemetery 995 Centerville Road  Soso 
	MS 39480
GEO:31.660383;-89.340456
END:VEVENT
END:VCALENDAR